BEGIN:VCALENDAR
VERSION:2.0
PRODID:icalendar-ruby
CALSCALE:GREGORIAN
BEGIN:VEVENT
DTSTAMP:20260425T154038Z
UID:73e62002-b295-494c-be6b-ac686416ca05
DTSTART;TZID=Pacific/Auckland:20260426T110000
DTEND;TZID=Pacific/Auckland:20260426T120000
DESCRIPTION:Property ID# 606976
SUMMARY:Openhome for 52 Lagoon Place
END:VEVENT
END:VCALENDAR
