BEGIN:VCALENDAR
VERSION:2.0
PRODID:icalendar-ruby
CALSCALE:GREGORIAN
BEGIN:VEVENT
DTSTAMP:20260425T153306Z
UID:b62bf794-9e26-4bdc-9e42-7acc026f49b4
DTSTART;TZID=Pacific/Auckland:20260426T110000
DTEND;TZID=Pacific/Auckland:20260426T113000
DESCRIPTION:Property ID# 607296
SUMMARY:Openhome for 30 Russley Drive
END:VEVENT
END:VCALENDAR
