BEGIN:VCALENDAR
VERSION:2.0
PRODID:icalendar-ruby
CALSCALE:GREGORIAN
BEGIN:VEVENT
DTSTAMP:20260423T121215Z
UID:17c454f4-142f-4df8-932b-57604a1deec6
DTSTART;TZID=Pacific/Auckland:20260503T131500
DTEND;TZID=Pacific/Auckland:20260503T134500
DESCRIPTION:Property ID# 606097
SUMMARY:Openhome for 20 Piata Street
END:VEVENT
END:VCALENDAR
