BEGIN:VCALENDAR
VERSION:2.0
PRODID:icalendar-ruby
CALSCALE:GREGORIAN
BEGIN:VEVENT
DTSTAMP:20260423T121352Z
UID:bd5b0338-a09c-4a65-b4fd-fe5951a3e0c8
DTSTART;TZID=Pacific/Auckland:20260426T120000
DTEND;TZID=Pacific/Auckland:20260426T123000
DESCRIPTION:Property ID# 607014
SUMMARY:Openhome for 12 Faulkner Street
END:VEVENT
END:VCALENDAR
