BEGIN:VCALENDAR
VERSION:2.0
PRODID:icalendar-ruby
CALSCALE:GREGORIAN
BEGIN:VEVENT
DTSTAMP:20260425T105844Z
UID:533052ab-0601-4818-92a0-afeb6e8158a0
DTSTART;TZID=Pacific/Auckland:20260426T111500
DTEND;TZID=Pacific/Auckland:20260426T120000
DESCRIPTION:Property ID# 607050
SUMMARY:Openhome for 10 Evansbel Place
END:VEVENT
END:VCALENDAR
