BEGIN:VCALENDAR
VERSION:2.0
PRODID:icalendar-ruby
CALSCALE:GREGORIAN
BEGIN:VEVENT
DTSTAMP:20260425T124718Z
UID:85fba33d-0230-4783-9009-60b85cdc6a35
DTSTART;TZID=Pacific/Auckland:20260426T130000
DTEND;TZID=Pacific/Auckland:20260426T133000
DESCRIPTION:Property ID# 604493
SUMMARY:Openhome for 91 Pillans Road
END:VEVENT
END:VCALENDAR
