BEGIN:VCALENDAR
VERSION:2.0
PRODID:icalendar-ruby
CALSCALE:GREGORIAN
BEGIN:VEVENT
DTSTAMP:20260423T121430Z
UID:f30ecb05-27bd-45b7-86a8-c685e9e2661d
DTSTART;TZID=Pacific/Auckland:20260426T140000
DTEND;TZID=Pacific/Auckland:20260426T143000
DESCRIPTION:Property ID# 607139
SUMMARY:Openhome for 26A Short Street
END:VEVENT
END:VCALENDAR
