BEGIN:VCALENDAR
VERSION:2.0
PRODID:icalendar-ruby
CALSCALE:GREGORIAN
BEGIN:VEVENT
DTSTAMP:20260423T152908Z
UID:faaf82bb-8594-4cfe-8019-371cd95f04c9
DTSTART;TZID=Pacific/Auckland:20260426T130000
DTEND;TZID=Pacific/Auckland:20260426T133000
DESCRIPTION:Property ID# 603961
SUMMARY:Openhome for 64c Fifth Avenue
END:VEVENT
END:VCALENDAR
