BEGIN:VCALENDAR
VERSION:2.0
PRODID:icalendar-ruby
CALSCALE:GREGORIAN
BEGIN:VEVENT
DTSTAMP:20260423T121032Z
UID:f7773197-8a83-4ceb-a4f3-a9e8f84151fb
DTSTART;VALUE=DATE:20260513
DESCRIPTION:Property ID# 607082\, Locatoin: at 11:30am\, Harcourts Auction 
 Room\, 1 Third Avenue\, Tauranga\, Time: 12:00PM
SUMMARY:Auction for 2 Santa Fe Key
END:VEVENT
END:VCALENDAR
