BEGIN:VCALENDAR
VERSION:2.0
PRODID:icalendar-ruby
CALSCALE:GREGORIAN
BEGIN:VEVENT
DTSTAMP:20260425T110146Z
UID:7cf5acb2-2f30-4cc5-aab0-e2616527b492
DTSTART;VALUE=DATE:20260513
DESCRIPTION:Property ID# 607050\, Locatoin: at 11:30am\, Harcourts Auction 
 Room\, 1 Third Avenue\, Tauranga\, Time: 12:00PM
SUMMARY:Auction for 10 Evansbel Place
END:VEVENT
END:VCALENDAR
