BEGIN:VCALENDAR
VERSION:2.0
PRODID:icalendar-ruby
CALSCALE:GREGORIAN
BEGIN:VEVENT
DTSTAMP:20260423T120701Z
UID:82c3f672-c30f-4aeb-accd-c65fd93f50fe
DTSTART;VALUE=DATE:20260604
DESCRIPTION:Property ID# 607038\, Time: 2:00PM
SUMMARY:Auction for 7F Owens Place
END:VEVENT
END:VCALENDAR
