BEGIN:VCALENDAR
VERSION:2.0
PRODID:icalendar-ruby
CALSCALE:GREGORIAN
BEGIN:VEVENT
DTSTAMP:20260423T122214Z
UID:d1f68ae1-f628-4c7e-9ee3-2b7264adfe8c
DTSTART;VALUE=DATE:20260513
DESCRIPTION:Property ID# 606909\, Locatoin: Harcourts Auction Rooms\, 1 Thi
 rd Avenue\, Tauranga\, Time: 11:30AM
SUMMARY:Auction for 4A London Place
END:VEVENT
END:VCALENDAR
