BEGIN:VCALENDAR
VERSION:2.0
PRODID:icalendar-ruby
CALSCALE:GREGORIAN
BEGIN:VEVENT
DTSTAMP:20260423T121424Z
UID:c92f265d-4e18-452b-bb68-1a252974acf5
DTSTART;VALUE=DATE:20260521
DESCRIPTION:Property ID# 606866\, Locatoin: Auction Rooms\, 247 Cameron Roa
 d\, Tauranga. Unless sold prior\, Time: 1:00PM
SUMMARY:Auction for 2 Harper Way
END:VEVENT
END:VCALENDAR
