BEGIN:VCALENDAR
VERSION:2.0
PRODID:icalendar-ruby
CALSCALE:GREGORIAN
BEGIN:VEVENT
DTSTAMP:20260420T172733Z
UID:d83464c2-8a6b-4743-9ed3-260b447b5e77
DTSTART;VALUE=DATE:20260514
DESCRIPTION:Property ID# 606531\, Locatoin: Auction Rooms\, 247 Cameron Roa
 d\, Tauranga. Unless sold prior\, Time: 1:00PM
SUMMARY:Auction for 28B Western Road
END:VEVENT
END:VCALENDAR
