BEGIN:VCALENDAR
VERSION:2.0
PRODID:icalendar-ruby
CALSCALE:GREGORIAN
BEGIN:VEVENT
DTSTAMP:20260422T102002Z
UID:94625ba2-9a30-43bb-bfb8-9726bf49f9b8
DTSTART;VALUE=DATE:20251204
DESCRIPTION:Property ID# 600486\, Locatoin: EVES Auction Room: 247 Cameron 
 Road\, Tauranga (unless sold prior)	\, Time: 1:00PM
SUMMARY:Auction for 
END:VEVENT
END:VCALENDAR
