BEGIN:VCALENDAR
VERSION:2.0
PRODID:icalendar-ruby
CALSCALE:GREGORIAN
BEGIN:VEVENT
DTSTAMP:20260420T202501Z
UID:bf80cd84-a238-47eb-8897-1e23faf61bf0
DTSTART;VALUE=DATE:20250205
DESCRIPTION:Property ID# 586199\, Locatoin: Harcourts Auction Room\, 1 Thir
 d Avenue\, Tauranga\, Time: 11:30AM
SUMMARY:Auction for 
END:VEVENT
END:VCALENDAR
