BEGIN:VCALENDAR
VERSION:2.0
PRODID:icalendar-ruby
CALSCALE:GREGORIAN
BEGIN:VEVENT
DTSTAMP:20260423T143807Z
UID:dce1c5b4-f6bd-4edd-b343-52f147b92da1
DTSTART;VALUE=DATE:20240605
DESCRIPTION:Property ID# 576075\, Locatoin: Harcourts Auction Rooms\, 1 Thi
 rd Avenue\, Tauranga  (Unless Sold Prior)\, Time: 12:30PM
SUMMARY:Auction for 
END:VEVENT
END:VCALENDAR
