BEGIN:VCALENDAR
VERSION:2.0
PRODID:icalendar-ruby
CALSCALE:GREGORIAN
BEGIN:VEVENT
DTSTAMP:20260420T140418Z
UID:7373cbc6-b460-46f0-8460-22dec4588ad6
DTSTART;VALUE=DATE:20240418
DESCRIPTION:Property ID# 572759\, Locatoin: 247 Cameron Road\, Time: 12:00P
 M
SUMMARY:Auction for 
END:VEVENT
END:VCALENDAR
