BEGIN:VCALENDAR
VERSION:2.0
PRODID:icalendar-ruby
CALSCALE:GREGORIAN
BEGIN:VEVENT
DTSTAMP:20260420T061038Z
UID:e2d174d3-c63d-4a9c-a1f3-fa01829aeb0b
DTSTART;VALUE=DATE:20240314
DESCRIPTION:Property ID# 570744\, Locatoin: Auction rooms\, 247 Cameron Rd\
 , Tauranga \, Time: 1:00PM
SUMMARY:Auction for 
END:VEVENT
END:VCALENDAR
