BEGIN:VCALENDAR
VERSION:2.0
PRODID:icalendar-ruby
CALSCALE:GREGORIAN
BEGIN:VEVENT
DTSTAMP:20260422T192626Z
UID:0317fc1a-c24e-413a-b132-3787f06824d3
DTSTART;VALUE=DATE:20240221
DESCRIPTION:Property ID# 569661\, Locatoin: Harcourts Auction Rooms\, 1 Thi
 rd Avenue\, Tauranga\, Unless Sold Prior\, Time: 12:00PM
SUMMARY:Auction for 
END:VEVENT
END:VCALENDAR
