BEGIN:VCALENDAR
VERSION:2.0
PRODID:icalendar-ruby
CALSCALE:GREGORIAN
BEGIN:VEVENT
DTSTAMP:20260423T090904Z
UID:0824987d-d5c8-4e29-92d3-b8a612f03187
DTSTART;VALUE=DATE:20220923
DESCRIPTION:Property ID# 543210\, Locatoin: Ray White Offices 1/ 9 Domain R
 oad\, Papamoa. (Unless sold prior)\, Time: 4:00PM
SUMMARY:Auction for 
END:VEVENT
END:VCALENDAR
