BEGIN:VCALENDAR
VERSION:2.0
PRODID:icalendar-ruby
CALSCALE:GREGORIAN
BEGIN:VEVENT
DTSTAMP:20260422T193555Z
UID:35c8f0a9-0807-4bc5-b05b-83794448eff8
DTSTART;VALUE=DATE:20220915
DESCRIPTION:Property ID# 542875\, Locatoin: Harcourt Auction Room\, 1 Third
  Avenue\, Tauranga\, Time: 11:00AM
SUMMARY:Auction for 
END:VEVENT
END:VCALENDAR
