BEGIN:VCALENDAR
VERSION:2.0
PRODID:icalendar-ruby
CALSCALE:GREGORIAN
BEGIN:VEVENT
DTSTAMP:20260421T000332Z
UID:d8619d32-6815-4eb9-ad7e-90d08eea5e4f
DTSTART;VALUE=DATE:20211216
DESCRIPTION:Property ID# 523768\, Locatoin: EVES Auction Room: 247 Cameron 
 Road\, Tauranga (unless sold prior)	\, Time: 1:00PM
SUMMARY:Auction for 
END:VEVENT
END:VCALENDAR
