BEGIN:VCALENDAR
VERSION:2.0
PRODID:icalendar-ruby
CALSCALE:GREGORIAN
BEGIN:VEVENT
DTSTAMP:20260422T150625Z
UID:21ca6619-9bb2-4080-bdaa-3a43e57bc702
DTSTART;VALUE=DATE:20211124
DESCRIPTION:Property ID# 521340\, Locatoin: Ray White Auction Rooms\, 1/9 D
 omain Road\, Papamoa (unless sold prior)\, Time: 1:00PM
SUMMARY:Auction for 
END:VEVENT
END:VCALENDAR
