BEGIN:VCALENDAR
VERSION:2.0
PRODID:icalendar-ruby
CALSCALE:GREGORIAN
BEGIN:VEVENT
DTSTAMP:20260424T225314Z
UID:1c1f61db-84ee-47e8-9980-2429f2484a90
DTSTART;VALUE=DATE:20211125
DESCRIPTION:Property ID# 520747\, Locatoin: ANZ Building\, cnr Cameron Road
  and Elizabeth Street\, Time: 1:00PM
SUMMARY:Auction for 
END:VEVENT
END:VCALENDAR
