BEGIN:VCALENDAR
VERSION:2.0
PRODID:icalendar-ruby
CALSCALE:GREGORIAN
BEGIN:VEVENT
DTSTAMP:20260422T151650Z
UID:f9e65f12-a405-4cc0-948d-9b5dba181b5a
DTSTART;VALUE=DATE:20211027
DESCRIPTION:Property ID# 518761\, Locatoin: Ray White Auction Rooms\, 1/9 D
 omain Road\, Papamoa (unless sold prior)\, Time: 1:00PM
SUMMARY:Auction for 
END:VEVENT
END:VCALENDAR
