BEGIN:VCALENDAR
VERSION:2.0
PRODID:icalendar-ruby
CALSCALE:GREGORIAN
BEGIN:VEVENT
DTSTAMP:20260422T195125Z
UID:86c7b1cf-0662-4040-b084-02467364ccd5
DTSTART;VALUE=DATE:20211014
DESCRIPTION:Property ID# 517744\, Locatoin: Harcourts Auction Rooms\, 1 Thi
 rd Avenue\, Tauranga\, Unless Sold Prior\, Time: 12:30PM
SUMMARY:Auction for 
END:VEVENT
END:VCALENDAR
