BEGIN:VCALENDAR
VERSION:2.0
PRODID:icalendar-ruby
CALSCALE:GREGORIAN
BEGIN:VEVENT
DTSTAMP:20260422T194503Z
UID:9a9838d3-b861-4a05-b118-37f79a46fe5c
DTSTART;VALUE=DATE:20210902
DESCRIPTION:Property ID# 515617\, Locatoin: Harcourts Auction Rooms\, 1 Thi
 rd Avenue\, Tauranga\, Unless Sold Prior\, Time: 11:30AM
SUMMARY:Auction for 
END:VEVENT
END:VCALENDAR
