BEGIN:VCALENDAR
VERSION:2.0
PRODID:icalendar-ruby
CALSCALE:GREGORIAN
BEGIN:VEVENT
DTSTAMP:20260422T195116Z
UID:893396be-589d-4ade-83ea-321fa161e30a
DTSTART;VALUE=DATE:20210812
DESCRIPTION:Property ID# 514397\, Locatoin: Harcourts Auction Rooms\, 1 Thi
 rd Avenue\, Tauranga\, Unless Sold Prior\, Time: 11:00AM
SUMMARY:Auction for 
END:VEVENT
END:VCALENDAR
