BEGIN:VCALENDAR
VERSION:2.0
PRODID:icalendar-ruby
CALSCALE:GREGORIAN
BEGIN:VEVENT
DTSTAMP:20260424T064739Z
UID:6ae4772f-27ce-467c-ba46-b8a445e3267d
DTSTART;VALUE=DATE:20210729
DESCRIPTION:Property ID# 513589\, Locatoin: ANZ Building\, cnr Cameron Road
  and Elizabeth Street\, Time: 12:00PM
SUMMARY:Auction for 
END:VEVENT
END:VCALENDAR
