BEGIN:VCALENDAR
VERSION:2.0
PRODID:icalendar-ruby
CALSCALE:GREGORIAN
BEGIN:VEVENT
DTSTAMP:20260425T124455Z
UID:f9c06d21-f72e-497b-a209-0334ff346bc3
DTSTART;VALUE=DATE:20210722
DESCRIPTION:Property ID# 512938\, Locatoin: 247 Cameron Road\, Tauranga\, T
 ime: 1:00PM
SUMMARY:Auction for 
END:VEVENT
END:VCALENDAR
