BEGIN:VCALENDAR
VERSION:2.0
PRODID:icalendar-ruby
CALSCALE:GREGORIAN
BEGIN:VEVENT
DTSTAMP:20260422T151044Z
UID:cb8afc55-47b5-4742-a722-6a2c956d2d84
DTSTART;VALUE=DATE:20210526
DESCRIPTION:Property ID# 509743\, Locatoin: Ray White Auction Rooms\, 5/9 D
 omain Road\, Papamoa (unless sold prior)\, Time: 1:00PM
SUMMARY:Auction for 
END:VEVENT
END:VCALENDAR
