BEGIN:VCALENDAR
VERSION:2.0
PRODID:icalendar-ruby
CALSCALE:GREGORIAN
BEGIN:VEVENT
DTSTAMP:20260423T104618Z
UID:8cc7d065-be25-4a6f-9ac0-d5d4268d1f60
DTSTART;VALUE=DATE:20210519
DESCRIPTION:Property ID# 508232\, Locatoin: Ray White Auction Rooms. 5/ 9 D
 omain Road\, Papamoa.\, Time: 1:00PM
SUMMARY:Auction for 
END:VEVENT
END:VCALENDAR
