BEGIN:VCALENDAR
VERSION:2.0
PRODID:icalendar-ruby
CALSCALE:GREGORIAN
BEGIN:VEVENT
DTSTAMP:20260421T142015Z
UID:bbecd03b-6873-42b2-be70-ff20bffdcd1e
DTSTART;VALUE=DATE:20210414
DESCRIPTION:Property ID# 505125\, Locatoin: Ray White Auction Rooms. 5/ 9 D
 omain Road\, Papamoa.\, Time: 1:00PM
SUMMARY:Auction for 
END:VEVENT
END:VCALENDAR
