BEGIN:VCALENDAR
VERSION:2.0
PRODID:icalendar-ruby
CALSCALE:GREGORIAN
BEGIN:VEVENT
DTSTAMP:20260422T194503Z
UID:aa1cbec3-4f47-4e8b-b7ef-6f8ed305f57e
DTSTART;VALUE=DATE:20210325
DESCRIPTION:Property ID# 504517\, Locatoin: Harcourts Auction Rooms\, 1 Thi
 rd Avenue\, Tauranga\, Unless Sold Prior\, Time: 2:00PM
SUMMARY:Auction for 
END:VEVENT
END:VCALENDAR
