BEGIN:VCALENDAR
VERSION:2.0
PRODID:icalendar-ruby
CALSCALE:GREGORIAN
BEGIN:VEVENT
DTSTAMP:20260420T162451Z
UID:48173887-34b8-4937-97e9-d16efab85e73
DTSTART;VALUE=DATE:20210324
DESCRIPTION:Property ID# 503486\, Locatoin: In rooms\, Time: 4:00PM
SUMMARY:Auction for 
END:VEVENT
END:VCALENDAR
