BEGIN:VCALENDAR
VERSION:2.0
PRODID:icalendar-ruby
CALSCALE:GREGORIAN
BEGIN:VEVENT
DTSTAMP:20260420T160836Z
UID:14e02db1-8c0d-4649-b5ba-1f9f948c6b4e
DTSTART;VALUE=DATE:20210211
DESCRIPTION:Property ID# 499751\, Locatoin: In rooms\, Time: 12:00PM
SUMMARY:Auction for 
END:VEVENT
END:VCALENDAR
