BEGIN:VCALENDAR
VERSION:2.0
PRODID:icalendar-ruby
CALSCALE:GREGORIAN
BEGIN:VEVENT
DTSTAMP:20260425T163516Z
UID:c25fe459-4cb1-42d8-a04f-5a0508cf2b84
DTSTART;VALUE=DATE:20210128
DESCRIPTION:Property ID# 498070\, Locatoin: Auction Rooms\, 247 Cameron Roa
 d\, Tauranga. Unless sold prior\, Time: 1:00PM
SUMMARY:Auction for 
END:VEVENT
END:VCALENDAR
