BEGIN:VCALENDAR
VERSION:2.0
PRODID:icalendar-ruby
CALSCALE:GREGORIAN
BEGIN:VEVENT
DTSTAMP:20260424T164710Z
UID:f084306a-f4b6-45dd-9877-8b1a74d9a3b4
DTSTART;VALUE=DATE:20191003
DESCRIPTION:Property ID# 460655\, Locatoin: EVES Auction Room: 247 Cameron 
 Road\, Tauranga (unless sold prior)	\, Time: 1:00PM
SUMMARY:Auction for 
END:VEVENT
END:VCALENDAR
