BEGIN:VCALENDAR
VERSION:2.0
PRODID:icalendar-ruby
CALSCALE:GREGORIAN
BEGIN:VEVENT
DTSTAMP:20260425T124834Z
UID:e453ae71-84c1-4eea-a4ff-75782d1cd0aa
DTSTART;VALUE=DATE:20190815
DESCRIPTION:Property ID# 456826\, Locatoin: EVES Auction Room: 247 Cameron 
 Road\, Tauranga (unless sold prior)	\, Time: 1:00PM
SUMMARY:Auction for 
END:VEVENT
END:VCALENDAR
