BEGIN:VCALENDAR
VERSION:2.0
PRODID:icalendar-ruby
CALSCALE:GREGORIAN
BEGIN:VEVENT
DTSTAMP:20210122T134930Z
UID:84d0af9f-9407-48f4-8547-64795f45591c
DTSTART;TZID=Pacific/Auckland:20210124T113000
DTEND;TZID=Pacific/Auckland:20210124T120000
DESCRIPTION:Property ID# 499868
SUMMARY:Openhome for 5 Sandhurst Drive
END:VEVENT
END:VCALENDAR
