BEGIN:VCALENDAR
VERSION:2.0
PRODID:icalendar-ruby
CALSCALE:GREGORIAN
BEGIN:VEVENT
DTSTAMP:20210122T134959Z
UID:18475aba-bd2d-4c07-9b48-7714126ab831
DTSTART;TZID=Pacific/Auckland:20210123T123000
DTEND;TZID=Pacific/Auckland:20210123T133000
DESCRIPTION:Property ID# 500225
SUMMARY:Openhome for 682A Oropi Road
END:VEVENT
END:VCALENDAR
