BEGIN:VCALENDAR
VERSION:2.0
PRODID:icalendar-ruby
CALSCALE:GREGORIAN
BEGIN:VEVENT
DTSTAMP:20210122T134914Z
UID:5ab7b078-7797-4956-869a-61f9a5d70996
DTSTART;TZID=Pacific/Auckland:20210124T113000
DTEND;TZID=Pacific/Auckland:20210124T120000
DESCRIPTION:Property ID# 499869
SUMMARY:Openhome for 65B Sherson Street
END:VEVENT
END:VCALENDAR
