BEGIN:VCALENDAR
VERSION:2.0
PRODID:icalendar-ruby
CALSCALE:GREGORIAN
BEGIN:VEVENT
DTSTAMP:20210122T134921Z
UID:1f84f894-296c-4934-849d-77d83b289923
DTSTART;TZID=Pacific/Auckland:20210124T123000
DTEND;TZID=Pacific/Auckland:20210124T130000
DESCRIPTION:Property ID# 499803
SUMMARY:Openhome for 29A Topaz Drive
END:VEVENT
END:VCALENDAR
