BEGIN:VCALENDAR
VERSION:2.0
PRODID:icalendar-ruby
CALSCALE:GREGORIAN
BEGIN:VEVENT
DTSTAMP:20210122T134948Z
UID:0d1739fe-4176-4d81-97e5-2cc2b615fd9a
DTSTART;TZID=Pacific/Auckland:20210124T130000
DTEND;TZID=Pacific/Auckland:20210124T134500
DESCRIPTION:Property ID# 500203
SUMMARY:Openhome for 50 Bahamas Key
END:VEVENT
END:VCALENDAR
