BEGIN:VCALENDAR
VERSION:2.0
PRODID:icalendar-ruby
CALSCALE:GREGORIAN
BEGIN:VEVENT
DTSTAMP:20210121T044752Z
UID:ee3e2415-2185-4faf-8378-647e2d06dca9
DTSTART;TZID=Pacific/Auckland:20210124T103000
DTEND;TZID=Pacific/Auckland:20210124T110000
DESCRIPTION:Property ID# 495056
SUMMARY:Openhome for 10 Carnoustie Place
END:VEVENT
END:VCALENDAR
