BEGIN:VCALENDAR
VERSION:2.0
PRODID:icalendar-ruby
CALSCALE:GREGORIAN
BEGIN:VEVENT
DTSTAMP:20210122T134904Z
UID:e165fb42-d36e-4837-a29b-2175a4f8f28f
DTSTART;VALUE=DATE:20210202
DESCRIPTION:Property ID# 500349\, Locatoin: Harcourts Auction Room\, 1 Thir
 d Ave\, Tauranga (unless sold prior)\, Time: 12:30PM
SUMMARY:Auction for 68 Links Avenue
END:VEVENT
END:VCALENDAR
