BEGIN:VCALENDAR
VERSION:2.0
PRODID:icalendar-ruby
CALSCALE:GREGORIAN
BEGIN:VEVENT
DTSTAMP:20210122T135026Z
UID:b7bb54da-9d36-4902-b46d-047016064d8a
DTSTART;VALUE=DATE:20210218
DESCRIPTION:Property ID# 500330\, Locatoin: Auction Rooms\, 247 Cameron Roa
 d\, Tauranga. Unless sold prior\, Time: 1:00PM
SUMMARY:Auction for 64 St Michaels Ave
END:VEVENT
END:VCALENDAR
