BEGIN:VCALENDAR
VERSION:2.0
PRODID:icalendar-ruby
CALSCALE:GREGORIAN
BEGIN:VEVENT
DTSTAMP:20210122T135005Z
UID:67bbc3a5-fe15-4977-be06-f8196fee4022
DTSTART;VALUE=DATE:20210211
DESCRIPTION:Property ID# 500324\, Locatoin: Harcourts Auction Room\, 1 Thir
 d Avenue\, Tauranga (Unless Sold Prior) \, Time: 1:30PM
SUMMARY:Auction for 69 Athfield Dr
END:VEVENT
END:VCALENDAR
