BEGIN:VCALENDAR
VERSION:2.0
PRODID:icalendar-ruby
CALSCALE:GREGORIAN
BEGIN:VEVENT
DTSTAMP:20210122T134926Z
UID:6b4a8a02-0bb9-4b6d-b7ff-92e8bfa1623b
DTSTART;VALUE=DATE:20210225
DESCRIPTION:Property ID# 500306\, Locatoin: EVES Auction Room: 247 Cameron 
 Road\, Tauranga (unless sold prior)	\, Time: 1:00PM
SUMMARY:Auction for 5 Oakwood Way
END:VEVENT
END:VCALENDAR
